BEGIN:VCALENDAR
VERSION:2.0
PRODID:-//Havering Volunteer Centre - ECPv6.3.1//NONSGML v1.0//EN
CALSCALE:GREGORIAN
METHOD:PUBLISH
X-WR-CALNAME:Havering Volunteer Centre
X-ORIGINAL-URL:https://www.haveringvc.org.uk
X-WR-CALDESC:Events for Havering Volunteer Centre
REFRESH-INTERVAL;VALUE=DURATION:PT1H
X-Robots-Tag:noindex
X-PUBLISHED-TTL:PT1H
BEGIN:VTIMEZONE
TZID:Europe/London
BEGIN:DAYLIGHT
TZOFFSETFROM:+0000
TZOFFSETTO:+0100
TZNAME:BST
DTSTART:20180325T010000
END:DAYLIGHT
BEGIN:STANDARD
TZOFFSETFROM:+0100
TZOFFSETTO:+0000
TZNAME:GMT
DTSTART:20181028T010000
END:STANDARD
BEGIN:DAYLIGHT
TZOFFSETFROM:+0000
TZOFFSETTO:+0100
TZNAME:BST
DTSTART:20190331T010000
END:DAYLIGHT
BEGIN:STANDARD
TZOFFSETFROM:+0100
TZOFFSETTO:+0000
TZNAME:GMT
DTSTART:20191027T010000
END:STANDARD
END:VTIMEZONE
BEGIN:VEVENT
DTSTART;TZID=Europe/London:20190923T110000
DTEND;TZID=Europe/London:20190923T140000
DTSTAMP:20260421T055829
CREATED:20190903T123119Z
LAST-MODIFIED:20190903T123119Z
UID:1910-1569236400-1569247200@www.haveringvc.org.uk
SUMMARY:Free Training Open Day
DESCRIPTION:HAVE YOU ALWAYS WANTED TO EXPAND YOUR SKILL SET OR QUALIFICATIONS? \nPERHAPS WITH THE CHILDREN GOING BACK TO SCHOOL IT’S TIME TO THINK ABOUT DOING SOMETHING FOR YOU! \nJOIN US ON THE 23RD SEPTEMBER TO FIND OUT ABOUT OUR FREE TRAINING COURSES\, YOUR ELIGIBILITY AND HOW TO ENROL! \n\nFOR MORE INFORMATION CONTACT TRAINING@HAVERINGVC.ORG.UK
URL:https://www.haveringvc.org.uk/event/free-training-open-day/
LOCATION:Havering Volunteer Centre\, RM1 1HR
END:VEVENT
BEGIN:VEVENT
DTSTART;TZID=Europe/London:20190920T100000
DTEND;TZID=Europe/London:20190920T160000
DTSTAMP:20260421T055829
CREATED:20190903T130308Z
LAST-MODIFIED:20190903T130308Z
UID:1946-1568973600-1568995200@www.haveringvc.org.uk
SUMMARY:Volunteer Management Training
DESCRIPTION:
URL:https://www.haveringvc.org.uk/event/volunteer-management-training/
LOCATION:Havering Volunteer Centre\, RM1 1HR
END:VEVENT
BEGIN:VEVENT
DTSTART;TZID=Europe/London:20190918T140000
DTEND;TZID=Europe/London:20190918T160000
DTSTAMP:20260421T055829
CREATED:20190112T191103Z
LAST-MODIFIED:20190903T115731Z
UID:1668-1568815200-1568822400@www.haveringvc.org.uk
SUMMARY:HVMF Meeting
DESCRIPTION:
URL:https://www.haveringvc.org.uk/event/hvmf-meeting-2/
LOCATION:Havering Volunteer Centre\, RM1 1HR
END:VEVENT
BEGIN:VEVENT
DTSTART;TZID=Europe/London:20190917T110000
DTEND;TZID=Europe/London:20190917T140000
DTSTAMP:20260421T055829
CREATED:20190903T123639Z
LAST-MODIFIED:20190903T123639Z
UID:1918-1568718000-1568728800@www.haveringvc.org.uk
SUMMARY:Lunch & Learn Training Session
DESCRIPTION:Join us every Tuesday for our Lunch & Learn level 2 training sessions. \nFor more information about training and enrolment contact training@haveringvc.org.uk
URL:https://www.haveringvc.org.uk/event/lunch-learn-training-session-3/
LOCATION:Havering Volunteer Centre\, RM1 1HR
END:VEVENT
BEGIN:VEVENT
DTSTART;TZID=Europe/London:20190916T150000
DTEND;TZID=Europe/London:20190916T170000
DTSTAMP:20260421T055829
CREATED:20190903T130946Z
LAST-MODIFIED:20190903T130947Z
UID:1952-1568646000-1568653200@www.haveringvc.org.uk
SUMMARY:Havering BME Forum Welcome Drop In
DESCRIPTION:Welcome to Havering BME Forum’s Welcome Drop In Session held every Monday at Havering Volunteer Centre from 3pm-5pm \nDrop in and find out what Havering has to offer and meet other like minded people whilst enjoying some light refreshments – We look forward to welcoming you! \n 
URL:https://www.haveringvc.org.uk/event/havering-bme-forum-welcome-drop-in-2/
LOCATION:Havering Volunteer Centre\, RM1 1HR
END:VEVENT
BEGIN:VEVENT
DTSTART;TZID=Europe/London:20190910T110000
DTEND;TZID=Europe/London:20190910T140000
DTSTAMP:20260421T055829
CREATED:20190903T123549Z
LAST-MODIFIED:20190903T123549Z
UID:1916-1568113200-1568124000@www.haveringvc.org.uk
SUMMARY:Lunch & Learn Training Session
DESCRIPTION:Join us every Tuesday for our Lunch & Learn level 2 training sessions. \nFor more information about training and enrolment contact training@haveringvc.org.uk
URL:https://www.haveringvc.org.uk/event/lunch-learn-training-session-2/
LOCATION:Havering Volunteer Centre\, RM1 1HR
END:VEVENT
BEGIN:VEVENT
DTSTART;TZID=Europe/London:20190910T100000
DTEND;TZID=Europe/London:20190910T120000
DTSTAMP:20260421T055829
CREATED:20190903T141720Z
LAST-MODIFIED:20190903T141720Z
UID:1989-1568109600-1568116800@www.haveringvc.org.uk
SUMMARY:HAVERING COMPACT FORUM
DESCRIPTION:The Compact Forum is a great place for Havering charities and community organisations to meet and keep appraised of key issues and to have a voice with the main stakeholders in Havering. \nLocal statutory and voluntary sector organisations work together on the Havering Compact\, which is the local agreement between the public and voluntary and community sectors\, on how to work together effectively. \nThe Compact establishes rights and commitments for both the statutory agencies\, and the community organisations that sign up to it\, and it provides a mechanism for dispute resolution. \nThe Havering Compact is and can be used to help organisations understand each other better\, improve communications and understand what to expect of each other. \nIt sets out commitments for each sector\, and organisations can sign up to it to demonstrate their commitment to improving working relationships. \nTo join please follow this link: https://my.havering.gov.uk/Pages/OnlineForms/Havering-Compact-application.aspx#Organisation
URL:https://www.haveringvc.org.uk/event/havering-compact-forum/
END:VEVENT
BEGIN:VEVENT
DTSTART;TZID=Europe/London:20190909T150000
DTEND;TZID=Europe/London:20190909T170000
DTSTAMP:20260421T055829
CREATED:20190903T130827Z
LAST-MODIFIED:20190903T130827Z
UID:1949-1568041200-1568048400@www.haveringvc.org.uk
SUMMARY:Havering BME Forum Welcome Drop In
DESCRIPTION:Welcome to Havering BME Forum’s Welcome Drop In Session held every Monday at Havering Volunteer Centre from 3pm-5pm \nDrop in and find out what Havering has to offer and meet other like minded people whilst enjoying some light refreshments – We look forward to welcoming you!
URL:https://www.haveringvc.org.uk/event/havering-bme-forum-welcome-drop-in/
LOCATION:Havering Volunteer Centre\, RM1 1HR
END:VEVENT
BEGIN:VEVENT
DTSTART;TZID=Europe/London:20190909T103000
DTEND;TZID=Europe/London:20190909T143000
DTSTAMP:20260421T055829
CREATED:20190112T190804Z
LAST-MODIFIED:20190903T124049Z
UID:1662-1568025000-1568039400@www.haveringvc.org.uk
SUMMARY:Di's Diamonds Coffee Morning ☕
DESCRIPTION:https://www.ageuk.org.uk/redbridgebarkinghavering/activities-and-events/regular-activity/
URL:https://www.haveringvc.org.uk/event/dis-diamonds-coffee-morning-7/
LOCATION:Havering Volunteer Centre\, RM1 1HR
END:VEVENT
BEGIN:VEVENT
DTSTART;TZID=Europe/London:20190903T140000
DTEND;TZID=Europe/London:20190903T160000
DTSTAMP:20260421T055829
CREATED:20190903T115542Z
LAST-MODIFIED:20190903T115542Z
UID:1905-1567519200-1567526400@www.haveringvc.org.uk
SUMMARY:Havering LGBT+ Afternoon Group
DESCRIPTION:Come along every first Tuesday of he month between 2pm and 4pm for more information contact Alan on 07757 122749 or visit the website www.romfordtuesday.simplesite.com
URL:https://www.haveringvc.org.uk/event/havering-lgbt-afternoon-group/
LOCATION:Havering Volunteer Centre\, RM1 1HR
END:VEVENT
BEGIN:VEVENT
DTSTART;TZID=Europe/London:20190903T110000
DTEND;TZID=Europe/London:20190903T140000
DTSTAMP:20260421T055829
CREATED:20190903T123500Z
LAST-MODIFIED:20190903T123500Z
UID:1912-1567508400-1567519200@www.haveringvc.org.uk
SUMMARY:Lunch & Learn Training Session
DESCRIPTION:Join us every Tuesday for our Lunch & Learn level 2 training sessions. \nFor more information about training and enrolment contact training@haveringvc.org.uk
URL:https://www.haveringvc.org.uk/event/lunch-learn-training-session/
LOCATION:Havering Volunteer Centre\, RM1 1HR
END:VEVENT
BEGIN:VEVENT
DTSTART;TZID=Europe/London:20190708T100000
DTEND;TZID=Europe/London:20190708T120000
DTSTAMP:20260421T055829
CREATED:20190226T130436Z
LAST-MODIFIED:20190226T130438Z
UID:1773-1562580000-1562587200@www.haveringvc.org.uk
SUMMARY:Di’s Diamonds Coffee Morning ☕
DESCRIPTION:https://www.ageuk.org.uk/redbridgebarkinghavering/activities-and-events/regular-activity/
URL:https://www.haveringvc.org.uk/event/dis-diamonds-coffee-morning-11/
LOCATION:Havering Volunteer Centre\, RM1 1HR
END:VEVENT
BEGIN:VEVENT
DTSTART;TZID=Europe/London:20190610T100000
DTEND;TZID=Europe/London:20190610T120000
DTSTAMP:20260421T055829
CREATED:20190226T130611Z
LAST-MODIFIED:20190226T130611Z
UID:1776-1560160800-1560168000@www.haveringvc.org.uk
SUMMARY:Di’s Diamonds Coffee Morning ☕
DESCRIPTION:https://www.ageuk.org.uk/redbridgebarkinghavering/activities-and-events/regular-activity/
URL:https://www.haveringvc.org.uk/event/dis-diamonds-coffee-morning-%e2%98%95/
LOCATION:Havering Volunteer Centre\, RM1 1HR
END:VEVENT
BEGIN:VEVENT
DTSTART;TZID=Europe/London:20190513T103000
DTEND;TZID=Europe/London:20190513T143000
DTSTAMP:20260421T055829
CREATED:20190112T190941Z
LAST-MODIFIED:20190226T130011Z
UID:1666-1557743400-1557757800@www.haveringvc.org.uk
SUMMARY:Di's Diamonds Coffee Morning ☕
DESCRIPTION:https://www.ageuk.org.uk/redbridgebarkinghavering/activities-and-events/regular-activity/
URL:https://www.haveringvc.org.uk/event/dis-diamonds-coffee-morning-9/
LOCATION:Havering Volunteer Centre\, RM1 1HR
END:VEVENT
BEGIN:VEVENT
DTSTART;TZID=Europe/London:20190408T103000
DTEND;TZID=Europe/London:20190408T143000
DTSTAMP:20260421T055829
CREATED:20190112T190903Z
LAST-MODIFIED:20190226T130055Z
UID:1664-1554719400-1554733800@www.haveringvc.org.uk
SUMMARY:Di's Diamonds Coffee Morning ☕
DESCRIPTION:https://www.ageuk.org.uk/redbridgebarkinghavering/activities-and-events/regular-activity/
URL:https://www.haveringvc.org.uk/event/dis-diamonds-coffee-morning-8/
LOCATION:Havering Volunteer Centre\, RM1 1HR
END:VEVENT
BEGIN:VEVENT
DTSTART;TZID=Europe/London:20190316T190000
DTEND;TZID=Europe/London:20190316T190000
DTSTAMP:20260421T055829
CREATED:20190129T221619Z
LAST-MODIFIED:20190226T130127Z
UID:1688-1552762800-1552762800@www.haveringvc.org.uk
SUMMARY:The Big Quiz Fundraiser 🎈
DESCRIPTION:
URL:https://www.haveringvc.org.uk/event/the-big-quiz-fundraiser/
LOCATION:Ardleigh House\, 42 Ardleigh Green Rd\, RM11 2LG
END:VEVENT
BEGIN:VEVENT
DTSTART;TZID=Europe/London:20190225T130000
DTEND;TZID=Europe/London:20190225T160000
DTSTAMP:20260421T055829
CREATED:20190112T194127Z
LAST-MODIFIED:20190112T194127Z
UID:1679-1551099600-1551110400@www.haveringvc.org.uk
SUMMARY:Practical Fundraising Skills Training
DESCRIPTION:
URL:https://www.haveringvc.org.uk/event/practical-fundraising-skills-training/
LOCATION:Havering Volunteer Centre\, RM1 1HR
END:VEVENT
BEGIN:VEVENT
DTSTART;TZID=Europe/London:20190225T100000
DTEND;TZID=Europe/London:20190225T160000
DTSTAMP:20260421T055829
CREATED:20190212T133248Z
LAST-MODIFIED:20190212T133248Z
UID:1705-1551088800-1551110400@www.haveringvc.org.uk
SUMMARY:Practical Fundraising Skills
DESCRIPTION:
URL:https://www.haveringvc.org.uk/event/practical-fundraising-skills/
END:VEVENT
BEGIN:VEVENT
DTSTART;TZID=Europe/London:20190211T133000
DTEND;TZID=Europe/London:20190211T163000
DTSTAMP:20260421T055829
CREATED:20190112T194017Z
LAST-MODIFIED:20190112T194017Z
UID:1676-1549891800-1549902600@www.haveringvc.org.uk
SUMMARY:Effective Minute Taking Training
DESCRIPTION:
URL:https://www.haveringvc.org.uk/event/effective-minute-taking-training/
LOCATION:Havering Volunteer Centre\, RM1 1HR
END:VEVENT
BEGIN:VEVENT
DTSTART;TZID=Europe/London:20190211T103000
DTEND;TZID=Europe/London:20190211T143000
DTSTAMP:20260421T055829
CREATED:20190112T190725Z
LAST-MODIFIED:20190112T190823Z
UID:1660-1549881000-1549895400@www.haveringvc.org.uk
SUMMARY:Di's Diamonds Coffee Morning
DESCRIPTION:https://www.ageuk.org.uk/redbridgebarkinghavering/activities-and-events/regular-activity/
URL:https://www.haveringvc.org.uk/event/dis-diamonds-coffee-morning-6/
LOCATION:Havering Volunteer Centre\, RM1 1HR
END:VEVENT
BEGIN:VEVENT
DTSTART;TZID=Europe/London:20190211T100000
DTEND;TZID=Europe/London:20190211T130000
DTSTAMP:20260421T055829
CREATED:20190112T193600Z
LAST-MODIFIED:20190112T193835Z
UID:1670-1549879200-1549890000@www.haveringvc.org.uk
SUMMARY:Chair Skills Training
DESCRIPTION:
URL:https://www.haveringvc.org.uk/event/chair-skills-training/
LOCATION:Havering Volunteer Centre\, RM1 1HR
END:VEVENT
BEGIN:VEVENT
DTSTART;VALUE=DATE:20190118
DTEND;VALUE=DATE:20190119
DTSTAMP:20260421T055829
CREATED:20190112T194540Z
LAST-MODIFIED:20190112T194540Z
UID:1682-1547769600-1547855999@www.haveringvc.org.uk
SUMMARY:
DESCRIPTION:
URL:https://www.haveringvc.org.uk/event/1682/
LOCATION:Sapphire Jubilee Community Centre\, Bolberry Road\, Collier Row\, rm5 3fg\, United Kingdom
END:VEVENT
BEGIN:VEVENT
DTSTART;TZID=Europe/London:20190114T103000
DTEND;TZID=Europe/London:20190114T123000
DTSTAMP:20260421T055829
CREATED:20190112T190202Z
LAST-MODIFIED:20190112T190202Z
UID:1656-1547461800-1547469000@www.haveringvc.org.uk
SUMMARY:Di's Diamonds Coffee Morning
DESCRIPTION:https://www.ageuk.org.uk/redbridgebarkinghavering/activities-and-events/regular-activity/
URL:https://www.haveringvc.org.uk/event/dis-diamonds-coffee-morning-5/
LOCATION:Havering Volunteer Centre\, RM1 1HR
END:VEVENT
BEGIN:VEVENT
DTSTART;TZID=Europe/London:20181214T100000
DTEND;TZID=Europe/London:20181214T150000
DTSTAMP:20260421T055829
CREATED:20181122T184953Z
LAST-MODIFIED:20181122T192751Z
UID:1627-1544781600-1544799600@www.haveringvc.org.uk
SUMMARY:Local Charities Day
DESCRIPTION:
URL:https://www.haveringvc.org.uk/event/local-charities-day/
LOCATION:Romford Brewery\, RM1 1AU
END:VEVENT
BEGIN:VEVENT
DTSTART;VALUE=DATE:20181214
DTEND;VALUE=DATE:20181215
DTSTAMP:20260421T055829
CREATED:20181122T184739Z
LAST-MODIFIED:20181122T185624Z
UID:1625-1544745600-1544831999@www.haveringvc.org.uk
SUMMARY:Jolly Jumper Day
DESCRIPTION:
URL:https://www.haveringvc.org.uk/event/jolly-jumper-day/
LOCATION:Havering Volunteer Centre\, RM1 1HR
END:VEVENT
BEGIN:VEVENT
DTSTART;TZID=Europe/London:20181210T100000
DTEND;TZID=Europe/London:20181210T120000
DTSTAMP:20260421T055829
CREATED:20180815T151520Z
LAST-MODIFIED:20181107T161706Z
UID:1552-1544436000-1544443200@www.haveringvc.org.uk
SUMMARY:Di's Diamonds Coffee Morning
DESCRIPTION:
URL:https://www.haveringvc.org.uk/event/dis-diamonds-coffee-morning-4/
LOCATION:Havering Volunteer Centre\, RM1 1HR
END:VEVENT
BEGIN:VEVENT
DTSTART;TZID=Europe/London:20181205T143000
DTEND;TZID=Europe/London:20181205T163000
DTSTAMP:20260421T055829
CREATED:20181122T184435Z
LAST-MODIFIED:20181122T185550Z
UID:1623-1544020200-1544027400@www.haveringvc.org.uk
SUMMARY:Annual General Meeting
DESCRIPTION:
URL:https://www.haveringvc.org.uk/event/annual-general-meeting/
LOCATION:Havering Volunteer Centre\, RM1 1HR
END:VEVENT
BEGIN:VEVENT
DTSTART;TZID=Europe/London:20181204T100000
DTEND;TZID=Europe/London:20181204T120000
DTSTAMP:20260421T055829
CREATED:20180815T151432Z
LAST-MODIFIED:20180815T151432Z
UID:1551-1543917600-1543924800@www.haveringvc.org.uk
SUMMARY:Compact Forum
DESCRIPTION:
URL:https://www.haveringvc.org.uk/event/compact-forum/
LOCATION:Romford Town Hall\, RM1 3BD
END:VEVENT
BEGIN:VEVENT
DTSTART;TZID=Europe/London:20181121T100000
DTEND;TZID=Europe/London:20181121T150000
DTSTAMP:20260421T055829
CREATED:20181107T161934Z
LAST-MODIFIED:20181107T161934Z
UID:1607-1542794400-1542812400@www.haveringvc.org.uk
SUMMARY:Funding Fayre
DESCRIPTION:Come and meet with funders such as Big Lottery\, Tudor Trust\, City Bridge to name a few.
URL:https://www.haveringvc.org.uk/event/funding-fayre/
LOCATION:Romford Town Hall\, RM1 3BD
END:VEVENT
BEGIN:VEVENT
DTSTART;TZID=Europe/London:20181112T100000
DTEND;TZID=Europe/London:20181112T120000
DTSTAMP:20260421T055829
CREATED:20180815T151200Z
LAST-MODIFIED:20180815T151316Z
UID:1550-1542016800-1542024000@www.haveringvc.org.uk
SUMMARY:Di's Diamonds Coffee Morning
DESCRIPTION:
URL:https://www.haveringvc.org.uk/event/dis-diamonds-coffee-morning-3/
LOCATION:Havering Volunteer Centre\, RM1 1HR
END:VEVENT
END:VCALENDAR