BEGIN:VCALENDAR
VERSION:2.0
PRODID:-//Havering Volunteer Centre - ECPv6.3.1//NONSGML v1.0//EN
CALSCALE:GREGORIAN
METHOD:PUBLISH
X-WR-CALNAME:Havering Volunteer Centre
X-ORIGINAL-URL:https://www.haveringvc.org.uk
X-WR-CALDESC:Events for Havering Volunteer Centre
REFRESH-INTERVAL;VALUE=DURATION:PT1H
X-Robots-Tag:noindex
X-PUBLISHED-TTL:PT1H
BEGIN:VTIMEZONE
TZID:Europe/London
BEGIN:DAYLIGHT
TZOFFSETFROM:+0000
TZOFFSETTO:+0100
TZNAME:BST
DTSTART:20220327T010000
END:DAYLIGHT
BEGIN:STANDARD
TZOFFSETFROM:+0100
TZOFFSETTO:+0000
TZNAME:GMT
DTSTART:20221030T010000
END:STANDARD
END:VTIMEZONE
BEGIN:VEVENT
DTSTART;TZID=Europe/London:20220411T110000
DTEND;TZID=Europe/London:20220411T130000
DTSTAMP:20260420T173441
CREATED:20220330T102837Z
LAST-MODIFIED:20220330T102837Z
UID:3091-1649674800-1649682000@www.haveringvc.org.uk
SUMMARY:Art & Jam
DESCRIPTION:Brought to you by Bluerskies Mindful Creatives is a chilled mindful art session with tea and scones #jamfirst \n \n 
URL:https://www.haveringvc.org.uk/event/art-jam/
LOCATION:Mardyke Community Centre\, South Street\, Rainham\, RM13 8PJ
END:VEVENT
BEGIN:VEVENT
DTSTART;TZID=Europe/London:20220409T120000
DTEND;TZID=Europe/London:20220409T150000
DTSTAMP:20260420T173441
CREATED:20220330T094832Z
LAST-MODIFIED:20220330T094832Z
UID:3073-1649505600-1649516400@www.haveringvc.org.uk
SUMMARY:BME Health & Well-being Event
DESCRIPTION:Health and Well Being Day 9th April @ Rainham Hall from 12noon\, come along and learn something new and make new friends with a cuppa
URL:https://www.haveringvc.org.uk/event/bme-health-well-being-event/
LOCATION:Rainham Hall\, Broadway\, Rainham\, RM13 9YN
END:VEVENT
BEGIN:VEVENT
DTSTART;TZID=Europe/London:20220407T100000
DTEND;TZID=Europe/London:20220407T160000
DTSTAMP:20260420T173441
CREATED:20220314T114541Z
LAST-MODIFIED:20220314T114541Z
UID:3032-1649325600-1649347200@www.haveringvc.org.uk
SUMMARY:Help the Easter Bunny Save Easter!
DESCRIPTION:The Easter Bunny has lost his chocolate eggs\, baby bunny treats and chick friends in Romford Shopping Hall. You can help to save Easter by finding them all! You will have a map to follow around the shops this will lead to the hidden eggs and baby bunnies. Upon completion you will be rewarded with a fluffy soft chick toy\, medal and Easter will be saved! Phew – what you waiting for Easter Needs You!! You must pre book tickets on line please
URL:https://www.haveringvc.org.uk/event/help-the-easter-bunny-save-easter/
LOCATION:Romford Shopping Hall\, 43 Market Place\, RM1 3AB
END:VEVENT
BEGIN:VEVENT
DTSTART;TZID=Europe/London:20220406T133000
DTEND;TZID=Europe/London:20220406T173000
DTSTAMP:20260420T173441
CREATED:20220314T120352Z
LAST-MODIFIED:20220314T120352Z
UID:3056-1649251800-1649266200@www.haveringvc.org.uk
SUMMARY:Havering Museum - Art Appreciation - Spring
DESCRIPTION:These are fun\, informal and friendly and assume no previous knowledge.\nAttendees are encouraged to engage with a variety of artists within the designated topic and build up their repertoire in appraising art.\nAdvanced booking essential.\nADMISSION £5 when booked at the Museum or online via Eventbrite (80p booking fee)\nAdmission includes entry to the Havering Museum\, refreshments and materials. \nWe are unable to offer refunds unless the event is changed by Havering Museum Ltd.
URL:https://www.haveringvc.org.uk/event/havering-museum-art-appreciation-spring/
LOCATION:Havering Museum\, High Street\, RM1 1HR
END:VEVENT
BEGIN:VEVENT
DTSTART;TZID=Europe/London:20220404T160000
DTEND;TZID=Europe/London:20220404T180000
DTSTAMP:20260420T173441
CREATED:20220314T113857Z
LAST-MODIFIED:20220314T113857Z
UID:3026-1649088000-1649095200@www.haveringvc.org.uk
SUMMARY:Havering BME Forum Welcome Drop In
DESCRIPTION:Come along every Monday to St Agnes Church Hall on Jutsums Lane\, Romford and find out what Havering has to offer. \n 
URL:https://www.haveringvc.org.uk/event/havering-bme-forum-welcome-drop-in-19/
LOCATION:St Agnes Church HAll\, St Agnes Church Hall\, 75 Jutsums Lans\, RM7 9HJ
END:VEVENT
BEGIN:VEVENT
DTSTART;TZID=Europe/London:20220401T110000
DTEND;TZID=Europe/London:20220401T160000
DTSTAMP:20260420T173441
CREATED:20220314T115848Z
LAST-MODIFIED:20220314T115848Z
UID:3052-1648810800-1648828800@www.haveringvc.org.uk
SUMMARY:Havering Museum - Women of Havering
DESCRIPTION:A mini exhibition that celebrates the achievements of women with links to Havering. \nRuns from 9th March to 20th April 2022
URL:https://www.haveringvc.org.uk/event/havering-museum-women-of-havering-7/
LOCATION:Havering Museum\, High Street\, RM1 1HR
END:VEVENT
BEGIN:VEVENT
DTSTART;TZID=Europe/London:20220331T110000
DTEND;TZID=Europe/London:20220331T160000
DTSTAMP:20260420T173441
CREATED:20220314T115617Z
LAST-MODIFIED:20220314T115617Z
UID:3050-1648724400-1648742400@www.haveringvc.org.uk
SUMMARY:Havering Museum - Women of Havering
DESCRIPTION:A mini exhibition that celebrates the achievements of women with links to Havering. \nRuns from 9th March to 20th April 2022
URL:https://www.haveringvc.org.uk/event/havering-museum-women-of-havering-6/
LOCATION:Havering Museum\, High Street\, RM1 1HR
END:VEVENT
BEGIN:VEVENT
DTSTART;TZID=Europe/London:20220331T093000
DTEND;TZID=Europe/London:20220331T113000
DTSTAMP:20260420T173441
CREATED:20220330T102649Z
LAST-MODIFIED:20220330T102649Z
UID:3087-1648719000-1648726200@www.haveringvc.org.uk
SUMMARY:Take Off The Mask
DESCRIPTION:Brought to you by artists Bluerskies Mindful Creatives is Take Off The Mask coffee morning with a little art jam
URL:https://www.haveringvc.org.uk/event/take-off-the-mask/
LOCATION:Mardyke Community Centre\, South Street\, Rainham\, RM13 8PJ
END:VEVENT
BEGIN:VEVENT
DTSTART;TZID=Europe/London:20220330T110000
DTEND;TZID=Europe/London:20220330T160000
DTSTAMP:20260420T173441
CREATED:20220314T115543Z
LAST-MODIFIED:20220314T115543Z
UID:3048-1648638000-1648656000@www.haveringvc.org.uk
SUMMARY:Havering Museum - Women of Havering
DESCRIPTION:A mini exhibition that celebrates the achievements of women with links to Havering. \nRuns from 9th March to 20th April 2022
URL:https://www.haveringvc.org.uk/event/havering-museum-women-of-havering-5/
LOCATION:Havering Museum\, High Street\, RM1 1HR
END:VEVENT
BEGIN:VEVENT
DTSTART;TZID=Europe/London:20220328T160000
DTEND;TZID=Europe/London:20220328T180000
DTSTAMP:20260420T173441
CREATED:20220314T113714Z
LAST-MODIFIED:20220314T113714Z
UID:3024-1648483200-1648490400@www.haveringvc.org.uk
SUMMARY:Havering BME Forum Welcome Drop In
DESCRIPTION:Come along every Monday to St Agnes Church Hall on Jutsums Lane\, Romford and find out what Havering has to offer.
URL:https://www.haveringvc.org.uk/event/havering-bme-forum-welcome-drop-in-18/
LOCATION:St Agnes Church HAll\, St Agnes Church Hall\, 75 Jutsums Lans\, RM7 9HJ
END:VEVENT
BEGIN:VEVENT
DTSTART;TZID=Europe/London:20220326T190000
DTEND;TZID=Europe/London:20220326T223000
DTSTAMP:20260420T173441
CREATED:20220210T163647Z
LAST-MODIFIED:20220210T163647Z
UID:2908-1648321200-1648333800@www.haveringvc.org.uk
SUMMARY:HVC Quiz
DESCRIPTION:
URL:https://www.haveringvc.org.uk/event/hvc-quiz/
LOCATION:ELM PARK ASSEMBLY HALL\, 108 EYHURST AVENUE\, HORNCHURCH\, RM12 4RA\, United Kingdom
END:VEVENT
BEGIN:VEVENT
DTSTART;TZID=Europe/London:20220326T100000
DTEND;TZID=Europe/London:20220326T140000
DTSTAMP:20260420T173441
CREATED:20220314T114222Z
LAST-MODIFIED:20220314T114222Z
UID:3029-1648288800-1648303200@www.haveringvc.org.uk
SUMMARY:Easter Bonnet Workshop
DESCRIPTION:Romford Shopping Hall will be holding their Easter Bonnet making workshop FINALLY on Saturday 26th March 10 am – 2 pm please pre book your session 10 – 11\, 11.30 – 12.30\, 1 – 2. Come and join in some messy fun – we can’t wait to see you
URL:https://www.haveringvc.org.uk/event/easter-bonnet-workshop/
LOCATION:Romford Shopping Hall\, 43 Market Place\, RM1 3AB
END:VEVENT
BEGIN:VEVENT
DTSTART;TZID=Europe/London:20220326T100000
DTEND;TZID=Europe/London:20220326T130000
DTSTAMP:20260420T173441
CREATED:20220215T142707Z
LAST-MODIFIED:20220215T142707Z
UID:2984-1648288800-1648299600@www.haveringvc.org.uk
SUMMARY:Elm Park Table Top Sale
DESCRIPTION:Come along to the Elm Park Assembly Hall between 10am-1pm and see what bargains you can find from local stall holders including pre-loved items. The Table Top Sale will also have teas and coffees as well as a Raffle to try and raise money for the hall. \nThis is a real community feel good event!
URL:https://www.haveringvc.org.uk/event/elm-park-table-top-sale-2/
LOCATION:ELM PARK ASSEMBLY HALL\, 108 EYHURST AVENUE\, HORNCHURCH\, RM12 4RA\, United Kingdom
END:VEVENT
BEGIN:VEVENT
DTSTART;TZID=Europe/London:20220325T110000
DTEND;TZID=Europe/London:20220325T160000
DTSTAMP:20260420T173441
CREATED:20220314T115512Z
LAST-MODIFIED:20220314T115512Z
UID:3046-1648206000-1648224000@www.haveringvc.org.uk
SUMMARY:Havering Museum - Women of Havering
DESCRIPTION:A mini exhibition that celebrates the achievements of women with links to Havering. \nRuns from 9th March to 20th April 2022
URL:https://www.haveringvc.org.uk/event/havering-museum-women-of-havering-4/
LOCATION:Havering Museum\, High Street\, RM1 1HR
END:VEVENT
BEGIN:VEVENT
DTSTART;TZID=Europe/London:20220324T183000
DTEND;TZID=Europe/London:20220324T203000
DTSTAMP:20260420T173441
CREATED:20220215T153814Z
LAST-MODIFIED:20220215T153814Z
UID:3006-1648146600-1648153800@www.haveringvc.org.uk
SUMMARY:Community Cohesion and Engagement Forum
DESCRIPTION:An opportunity for Residents to meet with the Council and its partners on issues that are important to the community. Email: VCS@Havering.gov.uk to find out how to get involved
URL:https://www.haveringvc.org.uk/event/community-cohesion-and-engagement-forum/
END:VEVENT
BEGIN:VEVENT
DTSTART;TZID=Europe/London:20220324T113000
DTEND;TZID=Europe/London:20220324T130000
DTSTAMP:20260420T173441
CREATED:20220314T120116Z
LAST-MODIFIED:20220314T120116Z
UID:3054-1648121400-1648126800@www.haveringvc.org.uk
SUMMARY:Havering Museum - Variety Club
DESCRIPTION:At each event attendees will either\, learn a new skill\, listen to a talk or get involved in an activity.\nIf you would like to join the Variety Club contact Ian Browne at Havering Museum on 01708 766571 or email: volunteermanager@haveringmuseum.org.uk to reserve a place.\nAdmission £3.00 (inc light refreshments).
URL:https://www.haveringvc.org.uk/event/havering-museum-variety-club/
LOCATION:Havering Museum\, High Street\, RM1 1HR
END:VEVENT
BEGIN:VEVENT
DTSTART;TZID=Europe/London:20220324T110000
DTEND;TZID=Europe/London:20220324T160000
DTSTAMP:20260420T173441
CREATED:20220314T115437Z
LAST-MODIFIED:20220314T115437Z
UID:3044-1648119600-1648137600@www.haveringvc.org.uk
SUMMARY:Havering Museum - Women in Havering
DESCRIPTION:A mini exhibition that celebrates the achievements of women with links to Havering. \nRuns from 9th March to 20th April 2022
URL:https://www.haveringvc.org.uk/event/havering-museum-women-in-havering-2/
LOCATION:Havering Museum\, High Street\, RM1 1HR
END:VEVENT
BEGIN:VEVENT
DTSTART;TZID=Europe/London:20220324T100000
DTEND;TZID=Europe/London:20220324T140000
DTSTAMP:20260420T173441
CREATED:20220215T144220Z
LAST-MODIFIED:20220215T144220Z
UID:2991-1648116000-1648130400@www.haveringvc.org.uk
SUMMARY:Havering Carers' Hub - Adult Carers Forum - Planning for Tomorrow
DESCRIPTION:
URL:https://www.haveringvc.org.uk/event/havering-carers-hub-adult-carers-forum-planning-for-tomorrow/
LOCATION:YMCA\, 29 Rush Green Road\, Romford\, RM7 0PH
END:VEVENT
BEGIN:VEVENT
DTSTART;TZID=Europe/London:20220323T110000
DTEND;TZID=Europe/London:20220323T160000
DTSTAMP:20260420T173441
CREATED:20220314T115352Z
LAST-MODIFIED:20220314T115352Z
UID:3042-1648033200-1648051200@www.haveringvc.org.uk
SUMMARY:Havering Museum - Women in Havering
DESCRIPTION:A mini exhibition that celebrates the achievements of women with links to Havering. \nRuns from 9th March to 20th April 2022
URL:https://www.haveringvc.org.uk/event/havering-museum-women-in-havering/
LOCATION:Havering Museum\, High Street\, RM1 1HR
END:VEVENT
BEGIN:VEVENT
DTSTART;TZID=Europe/London:20220321T160000
DTEND;TZID=Europe/London:20220321T180000
DTSTAMP:20260420T173441
CREATED:20220314T113630Z
LAST-MODIFIED:20220314T113630Z
UID:3022-1647878400-1647885600@www.haveringvc.org.uk
SUMMARY:Havering BME Forum Welcome Drop In
DESCRIPTION:Come along every Monday to St Agnes Church Hall on Jutsums Lane\, Romford and find out what Havering has to offer.
URL:https://www.haveringvc.org.uk/event/havering-bme-forum-welcome-drop-in-17/
LOCATION:St Agnes Church HAll\, St Agnes Church Hall\, 75 Jutsums Lans\, RM7 9HJ
END:VEVENT
BEGIN:VEVENT
DTSTART;TZID=Europe/London:20220321T140000
DTEND;TZID=Europe/London:20220321T160000
DTSTAMP:20260420T173441
CREATED:20220210T165618Z
LAST-MODIFIED:20220210T165618Z
UID:2926-1647871200-1647878400@www.haveringvc.org.uk
SUMMARY:HVMF
DESCRIPTION:Havering Volunteer Managers Forum – Come along and build on partnerships\, find out what’s happening in the sector and any changes in volunteer management
URL:https://www.haveringvc.org.uk/event/hvmf-2/
END:VEVENT
BEGIN:VEVENT
DTSTART;TZID=Europe/London:20220320T150000
DTEND;TZID=Europe/London:20220320T170000
DTSTAMP:20260420T173441
CREATED:20220314T121013Z
LAST-MODIFIED:20220314T121013Z
UID:3060-1647788400-1647795600@www.haveringvc.org.uk
SUMMARY:Havering Concert Orchestra Spring Concert 2022 A European Tour
DESCRIPTION:In times past the well-off would do the ‘Grand Tour’ – journeying round Europe – absorbing the music\, literature and art. Now Havering Concert Orchestra are taking you back in time and bringing the music to you\, at the New Windmill Hall in Upminster. Prices: Tickets will be available from www.hcoweb.co.uk.
URL:https://www.haveringvc.org.uk/event/havering-concert-orchestra-spring-concert-2022-a-european-tour/
LOCATION:New Windmill Hall\, St Mary's Lane\, Upminster\, RM14 2QH
END:VEVENT
BEGIN:VEVENT
DTSTART;TZID=Europe/London:20220318T110000
DTEND;TZID=Europe/London:20220318T160000
DTSTAMP:20260420T173441
CREATED:20220314T115242Z
LAST-MODIFIED:20220314T115305Z
UID:3040-1647601200-1647619200@www.haveringvc.org.uk
SUMMARY:Havering Museum - Women of Havering
DESCRIPTION:A mini exhibition that celebrates the achievements of women with links to Havering. \nRuns from 9th March to 20th April 2022
URL:https://www.haveringvc.org.uk/event/havering-museum-women-of-havering-3/
LOCATION:Havering Museum\, High Street\, RM1 1HR
END:VEVENT
BEGIN:VEVENT
DTSTART;TZID=Europe/London:20220318T103000
DTEND;TZID=Europe/London:20220318T120000
DTSTAMP:20260420T173441
CREATED:20220215T144918Z
LAST-MODIFIED:20220215T144918Z
UID:2999-1647599400-1647604800@www.haveringvc.org.uk
SUMMARY:Coffee Morning - St Luke's Church
DESCRIPTION:When: 10.30am – 12.00pm – third Friday of each month Where: The Centre\, St Luke’s Church Bring your friends – all welcome!
URL:https://www.haveringvc.org.uk/event/coffee-morning-st-lukes-church-2/
LOCATION:St Luke’s Church\, 201 Front Lane\, Upminster\, RM14 1LD
END:VEVENT
BEGIN:VEVENT
DTSTART;TZID=Europe/London:20220317T110000
DTEND;TZID=Europe/London:20220317T160000
DTSTAMP:20260420T173441
CREATED:20220314T115207Z
LAST-MODIFIED:20220314T115207Z
UID:3038-1647514800-1647532800@www.haveringvc.org.uk
SUMMARY:Havering Museum - Women of Havering
DESCRIPTION:A mini exhibition that celebrates the achievements of women with links to Havering. \nRuns from 9th March to 20th April 2022 \n 
URL:https://www.haveringvc.org.uk/event/havering-museum-women-of-havering-2/
LOCATION:Havering Museum\, High Street\, RM1 1HR
END:VEVENT
BEGIN:VEVENT
DTSTART;TZID=Europe/London:20220316T110000
DTEND;TZID=Europe/London:20220316T160000
DTSTAMP:20260420T173441
CREATED:20220314T114957Z
LAST-MODIFIED:20220314T114957Z
UID:3034-1647428400-1647446400@www.haveringvc.org.uk
SUMMARY:Havering Museum - Women of Havering
DESCRIPTION:A mini exhibition that celebrates the achievements of women with links to Havering. \nRuns from 9th March to 20th April 2022
URL:https://www.haveringvc.org.uk/event/havering-museum-women-of-havering/
LOCATION:Havering Museum\, High Street\, RM1 1HR
END:VEVENT
BEGIN:VEVENT
DTSTART;TZID=Europe/London:20220314T160000
DTEND;TZID=Europe/London:20220314T180000
DTSTAMP:20260420T173441
CREATED:20220314T113445Z
LAST-MODIFIED:20220314T113445Z
UID:3018-1647273600-1647280800@www.haveringvc.org.uk
SUMMARY:Havering BME Forum Welcome Drop In
DESCRIPTION:  \nCome along every Monday to St Agnes Church Hall on Jutsums Lane\, Romford and find out what Havering has to offer.
URL:https://www.haveringvc.org.uk/event/havering-bme-forum-welcome-drop-in-16/
LOCATION:St Agnes Church HAll\, St Agnes Church Hall\, 75 Jutsums Lans\, RM7 9HJ
END:VEVENT
BEGIN:VEVENT
DTSTART;TZID=Europe/London:20220312T190000
DTEND;TZID=Europe/London:20220312T223000
DTSTAMP:20260420T173441
CREATED:20220210T165230Z
LAST-MODIFIED:20220210T165230Z
UID:2923-1647111600-1647124200@www.haveringvc.org.uk
SUMMARY:Elm Park Community Association Quiz
DESCRIPTION:On the 12th March the Elm Park Community Association are hosting a much needed fundraiser to support the upkeep of the community hall – tables of 6 at a bargain of £3pp please book your table via dkhandmade2463@outlook.com – registered charity number 1057074
URL:https://www.haveringvc.org.uk/event/elm-park-community-association-quiz/
LOCATION:ELM PARK ASSEMBLY HALL\, 108 EYHURST AVENUE\, HORNCHURCH\, RM12 4RA\, United Kingdom
END:VEVENT
BEGIN:VEVENT
DTSTART;TZID=Europe/London:20220308T103000
DTEND;TZID=Europe/London:20220308T113000
DTSTAMP:20260420T173441
CREATED:20220215T135120Z
LAST-MODIFIED:20220215T135510Z
UID:2958-1646735400-1646739000@www.haveringvc.org.uk
SUMMARY:HASWA - Bollywood Active
DESCRIPTION:Bollywood/Bhangra Zumba class at HASWA\, 10:30 – 11:30 with Veena Jain. Come and join us or contact Haswa on Office@haswa.org.uk or by calling 01708 522789
URL:https://www.haveringvc.org.uk/event/2958/
LOCATION:HASWA\, Grenfields\, Kilmartin Way\, Elm Park\, RM12 5NB
END:VEVENT
BEGIN:VEVENT
DTSTART;TZID=Europe/London:20220307T120000
DTEND;TZID=Europe/London:20220307T130000
DTSTAMP:20260420T173441
CREATED:20220210T164928Z
LAST-MODIFIED:20220210T164928Z
UID:2919-1646654400-1646658000@www.haveringvc.org.uk
SUMMARY:Funky Country Line Dancing
DESCRIPTION:Look whats starting in March…….Grab your boots and join Line dancing classes starting 4 weeks today.\nNo experience needed\, just turn up and have fun – Guaranteed fun \n \n 
URL:https://www.haveringvc.org.uk/event/funky-country-line-dancing/
LOCATION:Bower Hall\, Wellingtonia Avenue\, RM4 1QP
END:VEVENT
END:VCALENDAR