BEGIN:VCALENDAR
VERSION:2.0
PRODID:-//Havering Volunteer Centre - ECPv6.3.1//NONSGML v1.0//EN
CALSCALE:GREGORIAN
METHOD:PUBLISH
X-WR-CALNAME:Havering Volunteer Centre
X-ORIGINAL-URL:https://www.haveringvc.org.uk
X-WR-CALDESC:Events for Havering Volunteer Centre
REFRESH-INTERVAL;VALUE=DURATION:PT1H
X-Robots-Tag:noindex
X-PUBLISHED-TTL:PT1H
BEGIN:VTIMEZONE
TZID:Europe/London
BEGIN:DAYLIGHT
TZOFFSETFROM:+0000
TZOFFSETTO:+0100
TZNAME:BST
DTSTART:20190331T010000
END:DAYLIGHT
BEGIN:STANDARD
TZOFFSETFROM:+0100
TZOFFSETTO:+0000
TZNAME:GMT
DTSTART:20191027T010000
END:STANDARD
BEGIN:DAYLIGHT
TZOFFSETFROM:+0000
TZOFFSETTO:+0100
TZNAME:BST
DTSTART:20200329T010000
END:DAYLIGHT
BEGIN:STANDARD
TZOFFSETFROM:+0100
TZOFFSETTO:+0000
TZNAME:GMT
DTSTART:20201025T010000
END:STANDARD
BEGIN:DAYLIGHT
TZOFFSETFROM:+0000
TZOFFSETTO:+0100
TZNAME:BST
DTSTART:20210328T010000
END:DAYLIGHT
BEGIN:STANDARD
TZOFFSETFROM:+0100
TZOFFSETTO:+0000
TZNAME:GMT
DTSTART:20211031T010000
END:STANDARD
BEGIN:DAYLIGHT
TZOFFSETFROM:+0000
TZOFFSETTO:+0100
TZNAME:BST
DTSTART:20220327T010000
END:DAYLIGHT
BEGIN:STANDARD
TZOFFSETFROM:+0100
TZOFFSETTO:+0000
TZNAME:GMT
DTSTART:20221030T010000
END:STANDARD
END:VTIMEZONE
BEGIN:VEVENT
DTSTART;TZID=Europe/London:20220318T110000
DTEND;TZID=Europe/London:20220318T160000
DTSTAMP:20260421T021323
CREATED:20220314T115242Z
LAST-MODIFIED:20220314T115305Z
UID:3040-1647601200-1647619200@www.haveringvc.org.uk
SUMMARY:Havering Museum - Women of Havering
DESCRIPTION:A mini exhibition that celebrates the achievements of women with links to Havering. \nRuns from 9th March to 20th April 2022
URL:https://www.haveringvc.org.uk/event/havering-museum-women-of-havering-3/
LOCATION:Havering Museum\, High Street\, RM1 1HR
END:VEVENT
BEGIN:VEVENT
DTSTART;TZID=Europe/London:20220318T103000
DTEND;TZID=Europe/London:20220318T120000
DTSTAMP:20260421T021323
CREATED:20220215T144918Z
LAST-MODIFIED:20220215T144918Z
UID:2999-1647599400-1647604800@www.haveringvc.org.uk
SUMMARY:Coffee Morning - St Luke's Church
DESCRIPTION:When: 10.30am – 12.00pm – third Friday of each month Where: The Centre\, St Luke’s Church Bring your friends – all welcome!
URL:https://www.haveringvc.org.uk/event/coffee-morning-st-lukes-church-2/
LOCATION:St Luke’s Church\, 201 Front Lane\, Upminster\, RM14 1LD
END:VEVENT
BEGIN:VEVENT
DTSTART;TZID=Europe/London:20220317T110000
DTEND;TZID=Europe/London:20220317T160000
DTSTAMP:20260421T021323
CREATED:20220314T115207Z
LAST-MODIFIED:20220314T115207Z
UID:3038-1647514800-1647532800@www.haveringvc.org.uk
SUMMARY:Havering Museum - Women of Havering
DESCRIPTION:A mini exhibition that celebrates the achievements of women with links to Havering. \nRuns from 9th March to 20th April 2022 \n 
URL:https://www.haveringvc.org.uk/event/havering-museum-women-of-havering-2/
LOCATION:Havering Museum\, High Street\, RM1 1HR
END:VEVENT
BEGIN:VEVENT
DTSTART;TZID=Europe/London:20220316T110000
DTEND;TZID=Europe/London:20220316T160000
DTSTAMP:20260421T021323
CREATED:20220314T114957Z
LAST-MODIFIED:20220314T114957Z
UID:3034-1647428400-1647446400@www.haveringvc.org.uk
SUMMARY:Havering Museum - Women of Havering
DESCRIPTION:A mini exhibition that celebrates the achievements of women with links to Havering. \nRuns from 9th March to 20th April 2022
URL:https://www.haveringvc.org.uk/event/havering-museum-women-of-havering/
LOCATION:Havering Museum\, High Street\, RM1 1HR
END:VEVENT
BEGIN:VEVENT
DTSTART;TZID=Europe/London:20220314T160000
DTEND;TZID=Europe/London:20220314T180000
DTSTAMP:20260421T021323
CREATED:20220314T113445Z
LAST-MODIFIED:20220314T113445Z
UID:3018-1647273600-1647280800@www.haveringvc.org.uk
SUMMARY:Havering BME Forum Welcome Drop In
DESCRIPTION:  \nCome along every Monday to St Agnes Church Hall on Jutsums Lane\, Romford and find out what Havering has to offer.
URL:https://www.haveringvc.org.uk/event/havering-bme-forum-welcome-drop-in-16/
LOCATION:St Agnes Church HAll\, St Agnes Church Hall\, 75 Jutsums Lans\, RM7 9HJ
END:VEVENT
BEGIN:VEVENT
DTSTART;TZID=Europe/London:20220312T190000
DTEND;TZID=Europe/London:20220312T223000
DTSTAMP:20260421T021323
CREATED:20220210T165230Z
LAST-MODIFIED:20220210T165230Z
UID:2923-1647111600-1647124200@www.haveringvc.org.uk
SUMMARY:Elm Park Community Association Quiz
DESCRIPTION:On the 12th March the Elm Park Community Association are hosting a much needed fundraiser to support the upkeep of the community hall – tables of 6 at a bargain of £3pp please book your table via dkhandmade2463@outlook.com – registered charity number 1057074
URL:https://www.haveringvc.org.uk/event/elm-park-community-association-quiz/
LOCATION:ELM PARK ASSEMBLY HALL\, 108 EYHURST AVENUE\, HORNCHURCH\, RM12 4RA\, United Kingdom
END:VEVENT
BEGIN:VEVENT
DTSTART;TZID=Europe/London:20220308T103000
DTEND;TZID=Europe/London:20220308T113000
DTSTAMP:20260421T021323
CREATED:20220215T135120Z
LAST-MODIFIED:20220215T135510Z
UID:2958-1646735400-1646739000@www.haveringvc.org.uk
SUMMARY:HASWA - Bollywood Active
DESCRIPTION:Bollywood/Bhangra Zumba class at HASWA\, 10:30 – 11:30 with Veena Jain. Come and join us or contact Haswa on Office@haswa.org.uk or by calling 01708 522789
URL:https://www.haveringvc.org.uk/event/2958/
LOCATION:HASWA\, Grenfields\, Kilmartin Way\, Elm Park\, RM12 5NB
END:VEVENT
BEGIN:VEVENT
DTSTART;TZID=Europe/London:20220307T120000
DTEND;TZID=Europe/London:20220307T130000
DTSTAMP:20260421T021323
CREATED:20220210T164928Z
LAST-MODIFIED:20220210T164928Z
UID:2919-1646654400-1646658000@www.haveringvc.org.uk
SUMMARY:Funky Country Line Dancing
DESCRIPTION:Look whats starting in March…….Grab your boots and join Line dancing classes starting 4 weeks today.\nNo experience needed\, just turn up and have fun – Guaranteed fun \n \n 
URL:https://www.haveringvc.org.uk/event/funky-country-line-dancing/
LOCATION:Bower Hall\, Wellingtonia Avenue\, RM4 1QP
END:VEVENT
BEGIN:VEVENT
DTSTART;TZID=Europe/London:20220305T110000
DTEND;TZID=Europe/London:20220305T150000
DTSTAMP:20260421T021323
CREATED:20220211T122000Z
LAST-MODIFIED:20220211T122000Z
UID:2928-1646478000-1646492400@www.haveringvc.org.uk
SUMMARY:Ponies Afternoon Tea Party
DESCRIPTION:Wellgate Community Farm would like to invite you to their Ponies Afternoon Tea Party between the hours of 11am and 3pm on Saturday 5th March  \nGet up close to your favourite animals including all our ponies!\nPrices:\nAdults – £5 (includes unlimited tea/coffee + a slice of cake)\nChildren (15 and under) – £1.50 (includes Unlimited fruit juice + slice of cake)\nTickets available *ONLY* on the day via our shop. No preorder tickets available!\nFree parking is available at City Pavilion. Bus routes 62\, 247 and 362 stop close by.
URL:https://www.haveringvc.org.uk/event/ponies-afternoon-tea-party/
LOCATION:Wellgate Farm\, Collier Row Road\, RM5 2BH
END:VEVENT
BEGIN:VEVENT
DTSTART;TZID=Europe/London:20220305T103000
DTEND;TZID=Europe/London:20220305T133000
DTSTAMP:20260421T021323
CREATED:20220215T150456Z
LAST-MODIFIED:20220215T150456Z
UID:3001-1646476200-1646487000@www.haveringvc.org.uk
SUMMARY:Thames Estuary Little Pick
DESCRIPTION:The Friends of North Thames Estuary will be holding another litter pick on Saturday 5 March. This time they will be meeting at Riverside Carpark\, Coldharbour Lane\, Rainham\, RM13 9YB (before the landfill security building) at 10.30am. \nThey will be collecting river rubbish on the reed beds on the Thames foreshore until 1.30pm.
URL:https://www.haveringvc.org.uk/event/thames-estuary-little-pick/
LOCATION:Riverside Car Park\, Coldharbour Lane\, Rainham\, RM13 9YB
END:VEVENT
BEGIN:VEVENT
DTSTART;TZID=Europe/London:20220303T160000
DTEND;TZID=Europe/London:20220303T200000
DTSTAMP:20260421T021323
CREATED:20220215T141844Z
LAST-MODIFIED:20220215T141844Z
UID:2979-1646323200-1646337600@www.haveringvc.org.uk
SUMMARY:Creative High Streets
DESCRIPTION:  \n \nLiving\, Working or Shopping in Romford? We Want to Hear From You! \nHavering Changing will be hitting the High Streets with events throughout the late winter and early spring and as part of this Creative High Streets project\,  we need your help to reinvigorate Romford’s High Street!\nWe would love to hear from as many people as possible to find out what you would like to see in Romford High Street\, be that: \n\nGreen Spaces to relax\nPlaces to be creative\nBusiness opportunities\nCommunity Facilities\nSpace for families\nPlaces to learn\nPlaces to have fun\n\nWhy not come down to meet us at our drop-in events to talk about some of the proposals put forward and to give us your thoughts and ideas on what you would like to see in Romford High Street and surrounding area. These are taking place at: \n\nThe Hope Cafe: 12 noon – 3pm on 9th and 16th February \nThe Golden Lion: 4pm – 8pm on 15th February and 3rd March\n\nYou can also let us know what you think by emailing us at hello@haveringchanging.org or by filling in a paper form which can be found at: \n\nThe Golden Lion\, High Street Romford\nThe Hope Cafe\, Romford Marketplace\n\nWe’re excited to see what ideas and thoughts you have so please get in touch – we’d love to hear from you!
URL:https://www.haveringvc.org.uk/event/creative-high-streets-2/
LOCATION:The Golden Lion\, High Street\, Romford
END:VEVENT
BEGIN:VEVENT
DTSTART;TZID=Europe/London:20220303T130000
DTEND;TZID=Europe/London:20220303T160000
DTSTAMP:20260421T021323
CREATED:20220223T133738Z
LAST-MODIFIED:20220223T133738Z
UID:3009-1646312400-1646323200@www.haveringvc.org.uk
SUMMARY:Brighter You In '22
DESCRIPTION:  \nRealise your full potential\, train to earn more\, build your future\, maximise your income by coming along on Thursday 3rd March 2022 between 1pm-4pm to the Harold Hill Community Hub
URL:https://www.haveringvc.org.uk/event/brighter-you-in-22/
LOCATION:Harold Hill Community Hub\, Chippenham Road\, Harold Hill\, RM3 8YF
END:VEVENT
BEGIN:VEVENT
DTSTART;TZID=Europe/London:20220302T103000
DTEND;TZID=Europe/London:20220302T123000
DTSTAMP:20260421T021323
CREATED:20220215T140151Z
LAST-MODIFIED:20220215T140208Z
UID:2962-1646217000-1646224200@www.haveringvc.org.uk
SUMMARY:The Meeting Place
DESCRIPTION:If you fancy a cuppa and a good old fashioned chin wag\, why not pop along to the Good Shepherd – starts 2nd March
URL:https://www.haveringvc.org.uk/event/2962/
LOCATION:Church of the Good Shepherd\, 3 Redriff Road\, Romford\, RM7 8HD
END:VEVENT
BEGIN:VEVENT
DTSTART;TZID=Europe/London:20220301T103000
DTEND;TZID=Europe/London:20220301T113000
DTSTAMP:20260421T021323
CREATED:20220215T135002Z
LAST-MODIFIED:20220215T135002Z
UID:2956-1646130600-1646134200@www.haveringvc.org.uk
SUMMARY:HASWA - Bollywood Active
DESCRIPTION:  \n \n  \nBollywood/Bhangra Zumba class at HASWA\, 10:30 – 11:30 with Veena Jain. Come and join us or contact Haswa on Office@haswa.org.uk or by calling 01708 522789
URL:https://www.haveringvc.org.uk/event/haswa-bollywood-active/
LOCATION:HASWA\, Grenfields\, Kilmartin Way\, Elm Park\, RM12 5NB
END:VEVENT
BEGIN:VEVENT
DTSTART;TZID=Europe/London:20220228T190000
DTEND;TZID=Europe/London:20220228T220000
DTSTAMP:20260421T021323
CREATED:20220210T163357Z
LAST-MODIFIED:20220210T163357Z
UID:2906-1646074800-1646085600@www.haveringvc.org.uk
SUMMARY:HVC Quiz - Crumpled Horn
DESCRIPTION:Fundraising Quiz on behalf of HVC
URL:https://www.haveringvc.org.uk/event/hvc-quiz-crumpled-horn-2/
LOCATION:Crumpled Horn Upminster\, 33-37 Corbetts Tey Road\, Upminster\, RM14 2AJ\, United Kingdom
END:VEVENT
BEGIN:VEVENT
DTSTART;TZID=Europe/London:20220226T110000
DTEND;TZID=Europe/London:20220226T140000
DTSTAMP:20260421T021323
CREATED:20220223T134407Z
LAST-MODIFIED:20220223T134407Z
UID:3013-1645873200-1645884000@www.haveringvc.org.uk
SUMMARY:Repair Cafe - Rainham Library
DESCRIPTION:Repair Cafe A5 leaflet \nThis is a free event where people can come along to have clothing mended or altered; broken furniture\, electricals and toys fixed.  Learn how to maintain household electrical items and get involved in reusing and recycling initiatives.\nTime slots can be booked via: enquiries@eastlondonwaste.gov.uk  or calling 0208 724 5803 (option 2)
URL:https://www.haveringvc.org.uk/event/repair-cafe-rainham-library/
LOCATION:Rainham Library\, Celtic Farm Road\, Rainham\, RM13 9GP
END:VEVENT
BEGIN:VEVENT
DTSTART;TZID=Europe/London:20220226T100000
DTEND;TZID=Europe/London:20220226T130000
DTSTAMP:20260421T021323
CREATED:20220215T142622Z
LAST-MODIFIED:20220215T142622Z
UID:2982-1645869600-1645880400@www.haveringvc.org.uk
SUMMARY:Elm Park Table Top Sale
DESCRIPTION:Come along to the Elm Park Assembly Hall between 10am-1pm and see what bargains you can find from local stall holders including pre-loved items. The Table Top Sale will also have teas and coffees as well as a Raffle to try and raise money for the hall. \nThis is a real community feel good event!
URL:https://www.haveringvc.org.uk/event/elm-park-table-top-sale/
LOCATION:ELM PARK ASSEMBLY HALL\, 108 EYHURST AVENUE\, HORNCHURCH\, RM12 4RA\, United Kingdom
END:VEVENT
BEGIN:VEVENT
DTSTART;TZID=Europe/London:20220222T190000
DTEND;TZID=Europe/London:20220222T203000
DTSTAMP:20260421T021323
CREATED:20220210T164508Z
LAST-MODIFIED:20220210T164508Z
UID:2915-1645556400-1645561800@www.haveringvc.org.uk
SUMMARY:Orchard Village Steering Group
DESCRIPTION:Orchard Village Steering Group is looking for new members! Come along to our open meeting on Tuesday 22nd February\, where you can find out more about what’s involved! \n 
URL:https://www.haveringvc.org.uk/event/orchard-village-steering-group/
LOCATION:Mick Fury House\, Perry Close\, Rainham\, RM13 8HT
END:VEVENT
BEGIN:VEVENT
DTSTART;TZID=Europe/London:20220222T103000
DTEND;TZID=Europe/London:20220222T113000
DTSTAMP:20260421T021323
CREATED:20220215T134715Z
LAST-MODIFIED:20220215T134715Z
UID:2951-1645525800-1645529400@www.haveringvc.org.uk
SUMMARY:HASWA - Bollywood/Bhangra Zumba Class
DESCRIPTION:  \n \n  \nBollywood/Bhangra Zumba class at HASWA\, 10:30 – 11:30 with Veena Jain. Come and join us or contact Haswa on Office@haswa.org.uk or by calling 01708 522789
URL:https://www.haveringvc.org.uk/event/haswa-bollywood-bhangra-zumba-class/
LOCATION:HASWA\, Grenfields\, Kilmartin Way\, Elm Park\, RM12 5NB
END:VEVENT
BEGIN:VEVENT
DTSTART;TZID=Europe/London:20220218T103000
DTEND;TZID=Europe/London:20220218T120000
DTSTAMP:20260421T021323
CREATED:20220215T144811Z
LAST-MODIFIED:20220215T144811Z
UID:2995-1645180200-1645185600@www.haveringvc.org.uk
SUMMARY:Coffee Morning - St Luke's Church
DESCRIPTION:When: 10.30am – 12.00pm – third Friday of each month Where: The Centre\, St Luke’s Church Bring your friends – all welcome!
URL:https://www.haveringvc.org.uk/event/coffee-morning-st-lukes-church/
LOCATION:St Luke’s Church\, 201 Front Lane\, Upminster\, RM14 1LD
END:VEVENT
BEGIN:VEVENT
DTSTART;TZID=Europe/London:20220216T120000
DTEND;TZID=Europe/London:20220216T150000
DTSTAMP:20260421T021323
CREATED:20220215T141734Z
LAST-MODIFIED:20220215T141734Z
UID:2975-1645012800-1645023600@www.haveringvc.org.uk
SUMMARY:Creative High Streets
DESCRIPTION:  \n \nLiving\, Working or Shopping in Romford? We Want to Hear From You! \nHavering Changing will be hitting the High Streets with events throughout the late winter and early spring and as part of this Creative High Streets project\,  we need your help to reinvigorate Romford’s High Street!\nWe would love to hear from as many people as possible to find out what you would like to see in Romford High Street\, be that: \n\nGreen Spaces to relax\nPlaces to be creative\nBusiness opportunities\nCommunity Facilities\nSpace for families\nPlaces to learn\nPlaces to have fun\n\nWhy not come down to meet us at our drop-in events to talk about some of the proposals put forward and to give us your thoughts and ideas on what you would like to see in Romford High Street and surrounding area. These are taking place at: \n\nThe Hope Cafe: 12 noon – 3pm on 9th and 16th February \nThe Golden Lion: 4pm – 8pm on 15th February and 3rd March\n\nYou can also let us know what you think by emailing us at hello@haveringchanging.org or by filling in a paper form which can be found at: \n\nThe Golden Lion\, High Street Romford\nThe Hope Cafe\, Romford Marketplace\n\nWe’re excited to see what ideas and thoughts you have so please get in touch – we’d love to hear from you!
URL:https://www.haveringvc.org.uk/event/creative-high-streets/
LOCATION:hope Cafe\, Romford Market Place\, Romford
END:VEVENT
BEGIN:VEVENT
DTSTART;TZID=Europe/London:20220215T190000
DTEND;TZID=Europe/London:20220215T220000
DTSTAMP:20260421T021323
CREATED:20220210T163239Z
LAST-MODIFIED:20220210T163239Z
UID:2903-1644951600-1644962400@www.haveringvc.org.uk
SUMMARY:HVC Quiz - Crumpled Horn
DESCRIPTION:Fundraising event on behalf of HVC
URL:https://www.haveringvc.org.uk/event/hvc-quiz-crumpled-horn/
LOCATION:Crumpled Horn Upminster\, 33-37 Corbetts Tey Road\, Upminster\, RM14 2AJ\, United Kingdom
END:VEVENT
BEGIN:VEVENT
DTSTART;TZID=Europe/London:20220212T133000
DTEND;TZID=Europe/London:20220212T170000
DTSTAMP:20260421T021323
CREATED:20220210T164128Z
LAST-MODIFIED:20220210T164128Z
UID:2911-1644672600-1644685200@www.haveringvc.org.uk
SUMMARY:Andrew Linham Jazz Orchestra
DESCRIPTION:Wonderful FREE performance this SATURDAY\, February 12th\, at 1.30pm in Harold Hill. Book your place on Eventbrite or get your ticket on the door (limited numbers)
URL:https://www.haveringvc.org.uk/event/andrew-linham-jazz-orchestra/
LOCATION:Harold Hill and District Communtiy Association\, Gooshays Drive\, Harold Hill\, RM3 9LB
END:VEVENT
BEGIN:VEVENT
DTSTART;VALUE=DATE:20201015
DTEND;VALUE=DATE:20201016
DTSTAMP:20260421T021323
CREATED:20200803T212935Z
LAST-MODIFIED:20200803T212935Z
UID:2234-1602720000-1602806399@www.haveringvc.org.uk
SUMMARY:Engaging the Community 2
DESCRIPTION:email landofthefanns@thameschase.org.uk\nhttps://www.eventbrite.co.uk/o/land-of-the-fanns
URL:https://www.haveringvc.org.uk/event/engaging-the-community-2/
END:VEVENT
BEGIN:VEVENT
DTSTART;VALUE=DATE:20201013
DTEND;VALUE=DATE:20201014
DTSTAMP:20260421T021323
CREATED:20200803T212933Z
LAST-MODIFIED:20200803T212933Z
UID:2233-1602547200-1602633599@www.haveringvc.org.uk
SUMMARY:Engaging the Community
DESCRIPTION:email landofthefanns@thameschase.org.uk\nhttps://www.eventbrite.co.uk/o/land-of-the-fanns
URL:https://www.haveringvc.org.uk/event/engaging-the-community/
END:VEVENT
BEGIN:VEVENT
DTSTART;VALUE=DATE:20200917
DTEND;VALUE=DATE:20200918
DTSTAMP:20260421T021323
CREATED:20200803T212853Z
LAST-MODIFIED:20200803T212853Z
UID:2231-1600300800-1600387199@www.haveringvc.org.uk
SUMMARY:Roles and Responsibilities of Trustees 2
DESCRIPTION:email landofthefanns@thameschase.org.uk\nhttps://www.eventbrite.co.uk/o/land-of-the-fanns
URL:https://www.haveringvc.org.uk/event/roles-and-responsibilities-of-trustees-2/
END:VEVENT
BEGIN:VEVENT
DTSTART;VALUE=DATE:20200915
DTEND;VALUE=DATE:20200916
DTSTAMP:20260421T021323
CREATED:20200803T212828Z
LAST-MODIFIED:20200803T212828Z
UID:2228-1600128000-1600214399@www.haveringvc.org.uk
SUMMARY:Roles and Responsibilities of Trustees
DESCRIPTION:email landofthefanns@thameschase.org.uk\nhttps://www.eventbrite.co.uk/o/land-of-the-fanns
URL:https://www.haveringvc.org.uk/event/roles-and-responsibilities-of-trustees/
END:VEVENT
BEGIN:VEVENT
DTSTART;VALUE=DATE:20200813
DTEND;VALUE=DATE:20200814
DTSTAMP:20260421T021323
CREATED:20200803T212744Z
LAST-MODIFIED:20200803T213040Z
UID:2226-1597276800-1597363199@www.haveringvc.org.uk
SUMMARY:Volunteering Recruitment Management and Retention 2
DESCRIPTION:email landofthefanns@thameschase.org.uk\nhttps://www.eventbrite.co.uk/o/land-of-the-fanns
URL:https://www.haveringvc.org.uk/event/volunteering-recruitment-management-and-retention-2/
END:VEVENT
BEGIN:VEVENT
DTSTART;VALUE=DATE:20200811
DTEND;VALUE=DATE:20200812
DTSTAMP:20260421T021323
CREATED:20200803T212701Z
LAST-MODIFIED:20200803T212701Z
UID:2223-1597104000-1597190399@www.haveringvc.org.uk
SUMMARY:Volunteering Recruitment Management and Retention
DESCRIPTION:email landofthefanns@thameschase.org.uk\nhttps://www.eventbrite.co.uk/o/land-of-the-fanns
URL:https://www.haveringvc.org.uk/event/volunteering-recruitment-management-and-retention/
END:VEVENT
BEGIN:VEVENT
DTSTART;TZID=Europe/London:20191217T110000
DTEND;TZID=Europe/London:20191217T140000
DTSTAMP:20260421T021323
CREATED:20190903T125114Z
LAST-MODIFIED:20190903T125114Z
UID:1944-1576580400-1576591200@www.haveringvc.org.uk
SUMMARY:Lunch & Learn Training Session
DESCRIPTION:Join us every Tuesday for our Lunch & Learn level 2 training sessions. \nFor more information about training and enrolment contact training@haveringvc.org.uk
URL:https://www.haveringvc.org.uk/event/lunch-learn-training-session-16/
LOCATION:Havering Volunteer Centre\, RM1 1HR
END:VEVENT
END:VCALENDAR