BEGIN:VCALENDAR
VERSION:2.0
PRODID:-//Havering Volunteer Centre - ECPv6.3.1//NONSGML v1.0//EN
CALSCALE:GREGORIAN
METHOD:PUBLISH
X-WR-CALNAME:Havering Volunteer Centre
X-ORIGINAL-URL:https://www.haveringvc.org.uk
X-WR-CALDESC:Events for Havering Volunteer Centre
REFRESH-INTERVAL;VALUE=DURATION:PT1H
X-Robots-Tag:noindex
X-PUBLISHED-TTL:PT1H
BEGIN:VTIMEZONE
TZID:Europe/London
BEGIN:DAYLIGHT
TZOFFSETFROM:+0000
TZOFFSETTO:+0100
TZNAME:BST
DTSTART:20240331T010000
END:DAYLIGHT
BEGIN:STANDARD
TZOFFSETFROM:+0100
TZOFFSETTO:+0000
TZNAME:GMT
DTSTART:20241027T010000
END:STANDARD
END:VTIMEZONE
BEGIN:VEVENT
DTSTART;TZID=Europe/London:20240424T200000
DTEND;TZID=Europe/London:20240504T220000
DTSTAMP:20260421T214103
CREATED:20240327T133620Z
LAST-MODIFIED:20240327T133620Z
UID:4819-1713988800-1714860000@www.haveringvc.org.uk
SUMMARY:Avenue Q
DESCRIPTION:“London’s funniest show” is coming back to the Brookside Theatre by popular public demand. Dubbed “the musical of the decade”\, AVENUE Q is a hybrid of South Park and the Muppet Show in an all-singing\, all-dancing musical ‘fur-fest’ that is sure to have you crying with laughter and roaring with joy! \nThe laugh out loud\, Tony Award-winning AVENUE Q is the irresistibly charming musical about the lovably hopeless characters on a downtown New York street trying to make sense of life’s burning issues: love\, work\, relationships\, and above all\, just how are you supposed to pay the bills with a BA in English? \nHilarious and uproariously entertaining\, join us in Avenue Q with a cast of fluffy\, filthy and unforgettable characters who’ve found themselves living the wrong side of Sesame Street – a celebration of a decade of mischief\, bad behaviour and political incorrectness\, featuring an enlightening repertoire of award-winning songs. \nCome and see what all the ‘fuzz’ is about. If you have a good sense of humour\, then AVENUE Q is right up your street! Probably the funniest – and definitely the furriest! – show you’re likely ever to see\, this “Sesame Street” musical for the broad minded is a treat which you will not want to miss so book your tickets today!“The best musical of the decade!” – The Sunday Times \n“Q stands for quite simply the best show in town!” – Sky News\n \n“The funniest thing I’ve ever seen!” – Kiss FM \n“Absolutely brilliant! We nearly died laughing!” – Absolute Radio\n \nTicket price £20 – £23\nRunning Time 140mins\nAge recommendation 14+\nAdditional Info There will be no online booking fee for this event and wheelchair spaces are not currently available. Babes in arms are not permitted into the auditorium under any circumstances.
URL:https://www.haveringvc.org.uk/event/avenue-q/
LOCATION:BROOKSIDE THEATRE\, 21A EASTERN ROAD\, ROMFORD\, RM1 3NH
END:VEVENT
END:VCALENDAR