BEGIN:VCALENDAR
VERSION:2.0
PRODID:-//Havering Volunteer Centre - ECPv6.3.1//NONSGML v1.0//EN
CALSCALE:GREGORIAN
METHOD:PUBLISH
X-WR-CALNAME:Havering Volunteer Centre
X-ORIGINAL-URL:https://www.haveringvc.org.uk
X-WR-CALDESC:Events for Havering Volunteer Centre
REFRESH-INTERVAL;VALUE=DURATION:PT1H
X-Robots-Tag:noindex
X-PUBLISHED-TTL:PT1H
BEGIN:VTIMEZONE
TZID:Europe/London
BEGIN:DAYLIGHT
TZOFFSETFROM:+0000
TZOFFSETTO:+0100
TZNAME:BST
DTSTART:20240331T010000
END:DAYLIGHT
BEGIN:STANDARD
TZOFFSETFROM:+0100
TZOFFSETTO:+0000
TZNAME:GMT
DTSTART:20241027T010000
END:STANDARD
END:VTIMEZONE
BEGIN:VEVENT
DTSTART;TZID=Europe/London:20240418T190000
DTEND;TZID=Europe/London:20240418T210000
DTSTAMP:20260421T105121
CREATED:20240327T135549Z
LAST-MODIFIED:20240327T135622Z
UID:4830-1713466800-1713474000@www.haveringvc.org.uk
SUMMARY:National Theatre’s nationwide youth theatre festival -  Connections 2024
DESCRIPTION:Connections is the National Theatre’s annual\, nationwide youth theatre festival. The programme is 29 years old and has a history of championing the talent of young people from across the UK. Every year\, the Connections commissions ten new plays for young people to perform. The programme brings together some of the UK’s most exciting writers with the theatre-makers of tomorrow. In 23/24\, Connections are working with nearly 270 youth companies from every corner of the UK. \nAs a partner theatre\, Queen’s Theatre Hornchurch are thrilled to be welcoming six companies over three days to present their work \nT Connections Day 1 – Thursday 18 April \nShout by Alexis Zegerman\, performed by Roding Valley High School \nIn a world full of words\, how can Dana survive when she can’t speak? Dana has selective mutism\, but that doesn’t stop her vivid imagination. Shout is a funny\, moving play about anxiety\, celebrating difference\, and finding your voice. A play that wonders what exactly it takes to overcome anxiety and mental health issues when you’re a teenager. It’s not just the noise you make\, that makes you who you are. Suggested content guidance: Recommended for ages 14+. Play explores experiences of anxiety disorders\, moments with characters struggling with poor mental health \nBack in the Day by Yasmeen Khan\, performed by The King Edmund School \nA group of classmates are charged with the responsibility of being their school’s well-being champions. In a freak occurrence they are transported back to the 80’s via an impromptu and heavily improvised roller disco. Here they discover they’re not the only ones with skeletons in the cupboard\, and there was more to the 80s than glitterballs and strange haircuts. Suggested content guidance: Recommended for ages 13+. One moment of strong language
URL:https://www.haveringvc.org.uk/event/national-theatres-nationwide-youth-theatre-festival-connections-2024/
LOCATION:Queen’s Theatre\, Billet Lane\, Hornchurch\, RM11 1QT
END:VEVENT
END:VCALENDAR